BEGIN:VCALENDAR
VERSION:2.0
PRODID:-//Music by ENCORE - Encore Duo and Encore Trio - ECPv6.15.20//NONSGML v1.0//EN
CALSCALE:GREGORIAN
METHOD:PUBLISH
X-WR-CALNAME:Music by ENCORE - Encore Duo and Encore Trio
X-ORIGINAL-URL:https://www.musicbyencore.com
X-WR-CALDESC:Events for Music by ENCORE - Encore Duo and Encore Trio
REFRESH-INTERVAL;VALUE=DURATION:PT1H
X-Robots-Tag:noindex
X-PUBLISHED-TTL:PT1H
BEGIN:VTIMEZONE
TZID:America/New_York
BEGIN:DAYLIGHT
TZOFFSETFROM:-0500
TZOFFSETTO:-0400
TZNAME:EDT
DTSTART:20150308T070000
END:DAYLIGHT
BEGIN:STANDARD
TZOFFSETFROM:-0400
TZOFFSETTO:-0500
TZNAME:EST
DTSTART:20151101T060000
END:STANDARD
BEGIN:DAYLIGHT
TZOFFSETFROM:-0500
TZOFFSETTO:-0400
TZNAME:EDT
DTSTART:20160313T070000
END:DAYLIGHT
BEGIN:STANDARD
TZOFFSETFROM:-0400
TZOFFSETTO:-0500
TZNAME:EST
DTSTART:20161106T060000
END:STANDARD
BEGIN:DAYLIGHT
TZOFFSETFROM:-0500
TZOFFSETTO:-0400
TZNAME:EDT
DTSTART:20170312T070000
END:DAYLIGHT
BEGIN:STANDARD
TZOFFSETFROM:-0400
TZOFFSETTO:-0500
TZNAME:EST
DTSTART:20171105T060000
END:STANDARD
END:VTIMEZONE
BEGIN:VEVENT
DTSTART;TZID=America/New_York:20160805T183000
DTEND;TZID=America/New_York:20160805T223000
DTSTAMP:20260425T233730
CREATED:20160619T192552Z
LAST-MODIFIED:20160809T212039Z
UID:909-1470421800-1470436200@www.musicbyencore.com
SUMMARY:Eastgate Brew & View\, August 5\, 6:30 PM
DESCRIPTION:Enjoy a perfect summer evening on the outdoor patio at Eastgate Brew & View — a cinema\, restaurant and bar\, all in one!  Select from a huge menu of appetizers\, entrées and sandwiches.  Sample a specialty cocktail named after a movie star\, or one of 30 local and national craft brews.  Relax with friends after dinner for a night-cap and the unforgettable vocal harmonies of Encore Duo on Friday\, August 5th! \n(Images courtesy egbrewview.com)
URL:https://www.musicbyencore.com/event/eastgate-brew-view-august-5-630-pm/
LOCATION:Eastgate Brew & View\, 4450 Eastgate South Drive\, Cincinnati\, OH\, 45245
CATEGORIES:Encore Duo
ATTACH;FMTTYPE=image/jpeg:https://www.musicbyencore.com/wordpress/wp-content/uploads/2016/03/egbv_tasting-notes-banner.jpg
END:VEVENT
BEGIN:VEVENT
DTSTART;TZID=America/New_York:20160729T210000
DTEND;TZID=America/New_York:20160729T233000
DTSTAMP:20260425T233730
CREATED:20160429T053828Z
LAST-MODIFIED:20160911T181124Z
UID:863-1469826000-1469835000@www.musicbyencore.com
SUMMARY:Marty's Hops & Vines\, July 29\, 9:00 PM
DESCRIPTION:Marty’s Hops & Vines grew from owner Marty’s love of the British pub – a comfortable and relaxing place to enjoy friends and to refresh from a busy day.  Located in a 1920’s building brought back to life with love and character\, you’ll find the perfect fine wine or craft beer to complement a meal\, or simply to savor all on its own. \nDon’t miss Encore Duo‘s show at Marty’s on Friday\, July 29\, 9:00-11:30 PM! \n(Images courtesy martys-hopsandvines.com )
URL:https://www.musicbyencore.com/event/martys-hops-vines-july-29-900-pm/
LOCATION:Marty’s Hops and Vines\, 6110 Hamilton Ave.\, Cincinnati\, 45224
CATEGORIES:Encore Duo
ATTACH;FMTTYPE=image/jpeg:https://www.musicbyencore.com/wordpress/wp-content/uploads/2016/04/Martys_bldg2.jpg
END:VEVENT
BEGIN:VEVENT
DTSTART;TZID=America/New_York:20160723T180000
DTEND;TZID=America/New_York:20160723T193000
DTSTAMP:20260425T233730
CREATED:20160429T051342Z
LAST-MODIFIED:20160822T031845Z
UID:857-1469296800-1469302200@www.musicbyencore.com
SUMMARY:Plain Folk Cafe\, July 23\, 6:00 PM
DESCRIPTION:Come out and hear Encore Duo at one of the area’s premier venues for acoustic music\, the Plain Folk Cafe\,  on Saturday\, July 23\, 6:00-7:30 PM! \n(Images courtesy plainfolkcafe.com)
URL:https://www.musicbyencore.com/event/plain-folk-cafe-patio-july-23-600-pm/
LOCATION:Plain Folk Cafe\, 10177 State Route 132\, Pleasant Plain\, 45162
CATEGORIES:Encore Duo
ATTACH;FMTTYPE=image/jpeg:https://www.musicbyencore.com/wordpress/wp-content/uploads/2016/04/Plain_Folk_Cafe_logo.jpg
END:VEVENT
BEGIN:VEVENT
DTSTART;TZID=America/New_York:20160722T170000
DTEND;TZID=America/New_York:20160722T210000
DTSTAMP:20260425T233730
CREATED:20160429T043957Z
LAST-MODIFIED:20160501T142239Z
UID:853-1469206800-1469221200@www.musicbyencore.com
SUMMARY:Normandy Swim & Tennis\, July 22\, 5:00 PM
DESCRIPTION:Private event – NOT open to the public. \nJuly is hot – HOT!  Come out for a cool dip in the pool and some cool tunes poolside by Encore Duo at Normandy Swim & Tennis Club on Friday\, July 22\, 5:00-9:00 PM.
URL:https://www.musicbyencore.com/event/normandy-swim-tennis-club-july-22-500-pm/
LOCATION:Normandy Swim & Tennis Club\, 9585 Union Cemetery Rd\, Loveland\, OH\, 45140
CATEGORIES:Encore Duo
ATTACH;FMTTYPE=image/jpeg:https://www.musicbyencore.com/wordpress/wp-content/uploads/2016/04/Normandy_Swim_Tennis_pool.jpg
END:VEVENT
BEGIN:VEVENT
DTSTART;VALUE=DATE:20160716
DTEND;VALUE=DATE:20160718
DTSTAMP:20260425T233730
CREATED:20160429T033829Z
LAST-MODIFIED:20160501T142833Z
UID:852-1468634400-1468720799@www.musicbyencore.com
SUMMARY:Unavailable July 16
DESCRIPTION:
URL:https://www.musicbyencore.com/event/unavailable-july-16/
LOCATION:OH
CATEGORIES:Encore Duo
END:VEVENT
BEGIN:VEVENT
DTSTART;TZID=America/New_York:20160715T183000
DTEND;TZID=America/New_York:20160715T223000
DTSTAMP:20260425T233730
CREATED:20160429T051245Z
LAST-MODIFIED:20160731T143141Z
UID:890-1468607400-1468621800@www.musicbyencore.com
SUMMARY:Eastgate Brew & View\, July 15\, 6:30 PM
DESCRIPTION:Enjoy a perfect summer evening on the outdoor patio at Eastgate Brew & View — a cinema\, restaurant and bar\, all in one!  Select from a huge menu of appetizers\, entrées and sandwiches.  Sample a specialty cocktail named after a movie star\, or one of 30 local and national craft brews.  Relax with friends after dinner for a night-cap and the unforgettable vocal harmonies of Encore Duo. \n(Images courtesy egbrewview.com)
URL:https://www.musicbyencore.com/event/eastgate-brew-view-july-15-630-pm/
LOCATION:Eastgate Brew & View\, 4450 Eastgate South Drive\, Cincinnati\, OH\, 45245
CATEGORIES:Encore Duo
ATTACH;FMTTYPE=image/jpeg:https://www.musicbyencore.com/wordpress/wp-content/uploads/2016/03/egbv_tasting-notes-banner.jpg
END:VEVENT
BEGIN:VEVENT
DTSTART;TZID=America/New_York:20160709T180000
DTEND;TZID=America/New_York:20160709T200000
DTSTAMP:20260425T233730
CREATED:20160606T030934Z
LAST-MODIFIED:20160626T185214Z
UID:907-1468087200-1468094400@www.musicbyencore.com
SUMMARY:Picnic\, July 9
DESCRIPTION:Private event\, NOT open to the public. \nEncore Trio (Bob and Mike\, plus Encore band-mate Bill Galvin) will perform at the Mt. Nebo UMC for the Prime Timers “old fashion” picnic\, on Saturday evening\, July 9th at 6:00 PM. \nIt will be an evening of fellowship\, home cookin’ and music at the Murphy Pavilion.
URL:https://www.musicbyencore.com/event/picnic-july-9-private-event/
LOCATION:Mt. Nebo United Methodist Church\, 11693 State Route 774\, Bethel\, OH\, 45106
CATEGORIES:Encore Duo
ATTACH;FMTTYPE=image/jpeg:https://www.musicbyencore.com/wordpress/wp-content/uploads/2014/05/mt-nebo-umc-web.jpg
END:VEVENT
BEGIN:VEVENT
DTSTART;TZID=America/New_York:20160708T180000
DTEND;TZID=America/New_York:20160708T210000
DTSTAMP:20260425T233730
CREATED:20160403T133033Z
LAST-MODIFIED:20160822T031704Z
UID:826-1468000800-1468011600@www.musicbyencore.com
SUMMARY:Mt. Carmel Brewing Company\, July 8\, 6:00 PM
DESCRIPTION:Sum-\, sum-\, summertime — summertime!  Come out to the  Mt. Carmel Brewing Company’s “Friday Night Porch Party\,” featuring live music by Encore Duo on July 8! \nMt. Carmel’s Public House boasts eight taps that pour each of the year-round beers and selections from their Seasonal line and Snapshot series.  In addition to the delicious craft beers\, one of the city’s best food trucks will be serving up some tasty bites. \nJoin Encore Duo and celebrate mid-summer at Mt. Carmel Brewing on Friday\, July 8. \n\n(Photo and logo courtesy mtcarmelbrewingcompany.com).
URL:https://www.musicbyencore.com/event/mt-carmel-brewing-company-july-8-600-pm/
LOCATION:Mt. Carmel Brewing Company\, 4362 Mt. Carmel-Tobasco Rd.\, Cincinnati\, OH\, 45244
CATEGORIES:Encore Duo
ATTACH;FMTTYPE=image/jpeg:https://www.musicbyencore.com/wordpress/wp-content/uploads/2016/04/mt-carmel-brewing-porch.jpg
END:VEVENT
BEGIN:VEVENT
DTSTART;TZID=America/New_York:20160704T170000
DTEND;TZID=America/New_York:20160704T210000
DTSTAMP:20260425T233730
CREATED:20160403T132908Z
LAST-MODIFIED:20160731T143604Z
UID:803-1467651600-1467666000@www.musicbyencore.com
SUMMARY:RAINED OUT - Harmony Hill Vineyards\, July 4\, 5:00 PM
DESCRIPTION:Encore Duo’s July 4 show is cancelled due to rain\, and rescheduled for Saturday\, October 1. \n  \nBring your Independence Day picnic and join Encore Duo at Harmony Hill Vineyards on Monday\, July 4!  Enjoy the delightful Harmony Hill wines and some tasty tunes\, as Bob and Mike return to the Hill Center Stage 5:00 – 9:00 PM. \nFrom the Harmony Hill web site (hhwines.com): \n“Harmony Hill Vineyards & Winery is Southwest Ohio’s premier winery/entertainment destination.  Join us on The Hill as we kick off what is sure to be another summer of fine wine\, great friends and outstanding entertainment. \nHarmony Hill – It’s all about fun\, friends and fine wine.“ \n\n(Images courtesy hhwines.com)
URL:https://www.musicbyencore.com/event/harmony-hill-vineyards-july-4-500-pm/
LOCATION:Harmony Hill Vineyard\, 2534 Swings Corner-Point Isabel Rd.\, Bethel\, OH\, 45106\, United States
CATEGORIES:Encore Duo
ATTACH;FMTTYPE=image/jpeg:https://www.musicbyencore.com/wordpress/wp-content/uploads/2015/04/Harmony-Hill-Vineyards-dancing.jpg
END:VEVENT
BEGIN:VEVENT
DTSTART;VALUE=DATE:20160701
DTEND;VALUE=DATE:20160704
DTSTAMP:20260425T233730
CREATED:20160429T032610Z
LAST-MODIFIED:20160501T142902Z
UID:851-1467338400-1467511199@www.musicbyencore.com
SUMMARY:Unavailable July 1-2
DESCRIPTION:
URL:https://www.musicbyencore.com/event/unavailable-july-1-2/
LOCATION:OH
CATEGORIES:Encore Duo
END:VEVENT
BEGIN:VEVENT
DTSTART;TZID=America/New_York:20160625T180000
DTEND;TZID=America/New_York:20160625T230000
DTSTAMP:20260425T233730
CREATED:20160322T005315Z
LAST-MODIFIED:20160731T143629Z
UID:802-1466877600-1466895600@www.musicbyencore.com
SUMMARY:Wedding\, June 25\, 6:00 PM
DESCRIPTION:This is a private event\, NOT open to the public.
URL:https://www.musicbyencore.com/event/wedding-june-25-600-pm/
LOCATION:OH
CATEGORIES:Encore Duo
ATTACH;FMTTYPE=image/jpeg:https://www.musicbyencore.com/wordpress/wp-content/uploads/2015/06/sunset-kiss.jpg
END:VEVENT
BEGIN:VEVENT
DTSTART;TZID=America/New_York:20160624T183000
DTEND;TZID=America/New_York:20160624T223000
DTSTAMP:20260425T233730
CREATED:20160322T004900Z
LAST-MODIFIED:20160626T183410Z
UID:824-1466793000-1466807400@www.musicbyencore.com
SUMMARY:Eastgate Brew & View\, June 24\, 6:30 PM
DESCRIPTION:Enjoy a perfect summer evening on the outdoor patio at Eastgate Brew & View — a cinema\, restaurant and bar\, all in one!  Select from a huge menu of appetizers\, entrées and sandwiches.  Sample a specialty cocktail named after a movie star\, or one of 30 local and national craft brews.  Relax with friends after dinner for a night-cap and the unforgettable vocal harmonies of Encore Duo. \n(Images courtesy egbrewview.com)
URL:https://www.musicbyencore.com/event/eastgate-brew-view-june-24-630-pm/
LOCATION:Eastgate Brew & View\, 4450 Eastgate South Drive\, Cincinnati\, OH\, 45245
CATEGORIES:Encore Duo
ATTACH;FMTTYPE=image/jpeg:https://www.musicbyencore.com/wordpress/wp-content/uploads/2016/03/egbv_tasting-notes-banner.jpg
END:VEVENT
BEGIN:VEVENT
DTSTART;VALUE=DATE:20160617
DTEND;VALUE=DATE:20160620
DTSTAMP:20260425T233730
CREATED:20160429T032109Z
LAST-MODIFIED:20160501T142938Z
UID:849-1466128800-1466301599@www.musicbyencore.com
SUMMARY:Unavailable June 17-18
DESCRIPTION:
URL:https://www.musicbyencore.com/event/unavailable-june-17/
LOCATION:OH
CATEGORIES:Encore Duo
END:VEVENT
BEGIN:VEVENT
DTSTART;VALUE=DATE:20160610
DTEND;VALUE=DATE:20160613
DTSTAMP:20260425T233730
CREATED:20160429T031632Z
LAST-MODIFIED:20160501T143041Z
UID:847-1465524000-1465696799@www.musicbyencore.com
SUMMARY:Unavailable June 10-11
DESCRIPTION:
URL:https://www.musicbyencore.com/event/unavailable-june-10/
LOCATION:OH
CATEGORIES:Encore Duo
END:VEVENT
BEGIN:VEVENT
DTSTART;VALUE=DATE:20160603
DTEND;VALUE=DATE:20160606
DTSTAMP:20260425T233730
CREATED:20160429T031027Z
LAST-MODIFIED:20160522T233206Z
UID:845-1464919200-1465091999@www.musicbyencore.com
SUMMARY:Unavailable June 3-4
DESCRIPTION:
URL:https://www.musicbyencore.com/event/unavailable-june-3/
LOCATION:OH
CATEGORIES:Encore Duo
END:VEVENT
BEGIN:VEVENT
DTSTART;TZID=America/New_York:20160528T170000
DTEND;TZID=America/New_York:20160528T210000
DTSTAMP:20260425T233730
CREATED:20160322T004515Z
LAST-MODIFIED:20160626T183550Z
UID:881-1464454800-1464469200@www.musicbyencore.com
SUMMARY:Jungle Jim's Eastgate\, May 28\, 5:00 PM
DESCRIPTION:If you’ve seen one Jungle Jim’s\, you’ve seen one Jungle Jim’s.  But whether you’re exploring the Eastgate store or the Fairfield store\, check out the night-life as the Encore Duo serves up the best songs of all time to complement an evening of wine and beer-tasting.  Cigar lovers can kick back with a fine cigar in the Snake House at Fairfield and the Paradise Pavilion at Eastgate.  Outdoor and indoor seating. \n(Images courtesy junglejims.com)
URL:https://www.musicbyencore.com/event/jungle-jims-eastgate-may-28-500-pm/
LOCATION:Jungle Jim’s Eastgate\, 4450 Eastgate South Drive\, Cincinnati\, 45245
CATEGORIES:Encore Duo
ATTACH;FMTTYPE=image/jpeg:https://www.musicbyencore.com/wordpress/wp-content/uploads/2016/03/JungleJims_Eastgate_exterior_day_train.jpg
END:VEVENT
BEGIN:VEVENT
DTSTART;TZID=America/New_York:20160520T183000
DTEND;TZID=America/New_York:20160520T223000
DTSTAMP:20260425T233730
CREATED:20160322T004115Z
LAST-MODIFIED:20160522T232742Z
UID:823-1463769000-1463783400@www.musicbyencore.com
SUMMARY:Eastgate Brew & View\, May 20\, 6:30 PM
DESCRIPTION:Enjoy these perfect May evenings on the outdoor patio at Eastgate Brew & View — a cinema\, restaurant and bar\, all in one!  Select from a huge menu of appetizers\, entrées and sandwiches.  Sample a specialty cocktail named after a movie star\, or one of 30 local and national craft brews.  Relax with friends after dinner for a night-cap and the unforgettable vocal harmonies of Encore Duo. \n(Images courtesy egbrewview.com)
URL:https://www.musicbyencore.com/event/eastgate-brew-view-may-20-630-pm/
LOCATION:Eastgate Brew & View\, 4450 Eastgate South Drive\, Cincinnati\, OH\, 45245
CATEGORIES:Encore Duo
ATTACH;FMTTYPE=image/jpeg:https://www.musicbyencore.com/wordpress/wp-content/uploads/2016/03/egbv_tasting-notes-banner.jpg
END:VEVENT
BEGIN:VEVENT
DTSTART;TZID=America/New_York:20160514T193000
DTEND;TZID=America/New_York:20160514T230000
DTSTAMP:20260425T233730
CREATED:20160322T004104Z
LAST-MODIFIED:20160626T183841Z
UID:839-1463254200-1463266800@www.musicbyencore.com
SUMMARY:Colonel Pomp's Tavern at Pompilio's\, May 14\, 7:30 PM
DESCRIPTION:Pompilio’s history dates back to 1902\, when the bar and adjacent dining room opened as small saloon.  Electric trolleys no longer click-clack past the front door\, but for over a century customers have been frequenting the establishment known\, since 1933\, as Pompilio’s.  It is an Italian restaurant with a Kentucky flavor set in an historic neighborhood. \nCome out for delicious food\, and enjoy some tasty tunes by Encore Duo at Colonel Pomp’s Tavern on Saturday\, May 14\, 7:30 – 11:00 PM. \n(Images courtesy pompiliosrestaurant.com) \n  \n 
URL:https://www.musicbyencore.com/event/colonel-pomps-tavern-may-14-730-pm/
LOCATION:Colonel Pomp’s Tavern\, 600 Washington Ave.\, Newport\, 41071
CATEGORIES:Encore Duo
ATTACH;FMTTYPE=image/png:https://www.musicbyencore.com/wordpress/wp-content/uploads/2016/04/Pompilios_logo.png
END:VEVENT
BEGIN:VEVENT
DTSTART;TZID=America/New_York:20160513T210000
DTEND;TZID=America/New_York:20160513T233000
DTSTAMP:20260425T233730
CREATED:20160322T004011Z
LAST-MODIFIED:20160606T011628Z
UID:832-1463173200-1463182200@www.musicbyencore.com
SUMMARY:Marty's Hops & Vines\, May 13\, 9:00 PM
DESCRIPTION:Marty’s Hops & Vines grew from owner Marty’s love of the British pub – a comfortable and relaxing place to enjoy friends and to refresh from a busy day.  Located in a 1920’s building brought back to life with love and character\, you’ll find the perfect fine wine or craft beer to complement a meal\, or simply to savor all on its own.  Don’t miss Encore Duo‘s show at Marty’s on May 13\, 9:00-11:30 PM! \n(Images courtesy martys-hopsandvines.com )
URL:https://www.musicbyencore.com/event/martys-hops-vines-may-13-900-pm/
LOCATION:Marty’s Hops and Vines\, 6110 Hamilton Ave.\, Cincinnati\, 45224
CATEGORIES:Encore Duo
ATTACH;FMTTYPE=image/jpeg:https://www.musicbyencore.com/wordpress/wp-content/uploads/2016/04/Martys_bldg2.jpg
END:VEVENT
BEGIN:VEVENT
DTSTART;TZID=America/New_York:20160507T170000
DTEND;TZID=America/New_York:20160507T210000
DTSTAMP:20260425T233730
CREATED:20160320T011100Z
LAST-MODIFIED:20160606T011948Z
UID:875-1462640400-1462654800@www.musicbyencore.com
SUMMARY:Jungle Jim's Fairfield\, May 7\, 5:00 PM
DESCRIPTION:Jungle Jim’s in Fairfield invites you to their Saturday Cigar Tasting\, inside The Snake House (located behind the store)\, for a night of cigars\, drinks\, and live music featuring Encore Duo on Saturday\, May 7.  Nothing but good times.  All you need to do is come out\, grab some cigars\, and enjoy yourself! \n(Images and text courtesy junglejims.com and facebook.com/eventsatthejungle)
URL:https://www.musicbyencore.com/event/jungle-jims-fairfield-may-7-500-pm/
LOCATION:Jungle Jim’s\, 5440 Dixie Highway\, Fairfield\, OH\, 45014
CATEGORIES:Encore Duo
ATTACH;FMTTYPE=image/jpeg:https://www.musicbyencore.com/wordpress/wp-content/uploads/2016/05/JungleJims_live_music_beer_cigars_0507.jpg
END:VEVENT
BEGIN:VEVENT
DTSTART;TZID=America/New_York:20160506T183000
DTEND;TZID=America/New_York:20160506T223000
DTSTAMP:20260425T233730
CREATED:20160320T011055Z
LAST-MODIFIED:20160513T102357Z
UID:822-1462559400-1462573800@www.musicbyencore.com
SUMMARY:Eastgate Brew & View\, May 6\, 6:30 PM
DESCRIPTION:Enjoy these perfect May evenings on the outdoor patio at Eastgate Brew & View — a cinema\, restaurant and bar\, all in one!  Select from a huge menu of appetizers\, entrées and sandwiches.  Sample a specialty cocktail named after a movie star\, or one of 30 local and national craft brews.  Relax with friends after dinner for a night-cap and the unforgettable vocal harmonies of Encore Duo. \n(Images courtesy egbrewview.com)
URL:https://www.musicbyencore.com/event/eastgate-brew-view-may-6-630-pm/
LOCATION:Eastgate Brew & View\, 4450 Eastgate South Drive\, Cincinnati\, OH\, 45245
CATEGORIES:Encore Duo
ATTACH;FMTTYPE=image/jpeg:https://www.musicbyencore.com/wordpress/wp-content/uploads/2016/03/egbv_tasting-notes-banner.jpg
END:VEVENT
BEGIN:VEVENT
DTSTART;TZID=America/New_York:20160416T183000
DTEND;TZID=America/New_York:20160416T223000
DTSTAMP:20260425T233730
CREATED:20160319T221536Z
LAST-MODIFIED:20160429T014044Z
UID:818-1460831400-1460845800@www.musicbyencore.com
SUMMARY:Eastgate Brew & View\, April 16\, 6:30 PM
DESCRIPTION:Hey movie and music fans!  Come out to Eastgate Brew & View on Saturday\, April 16\, to catch a movie\, some good food and drink\, and music by Encore Duo! \nEastgate Brew & View\, located at 4450 Eastgate Square Drive (next to Jungle Jim’s)\, combines a cinema\, restaurant and bar — all in one!  Select from a huge array of appetizers\, entrées and sandwiches.    Sample a specialty cocktail named after a movie star\, or one of 30 local and national craft brews. \nRelax with friends afterwards for a night-cap and the unforgettable vocal harmonies of Encore Duo on Saturday\, April 16!
URL:https://www.musicbyencore.com/event/eastgate-brew-view-april-16-630-pm/
LOCATION:Eastgate Brew & View\, 4450 Eastgate South Drive\, Cincinnati\, OH\, 45245
CATEGORIES:Encore Duo
ATTACH;FMTTYPE=image/jpeg:https://www.musicbyencore.com/wordpress/wp-content/uploads/2016/03/egbv_music_series.jpg
END:VEVENT
BEGIN:VEVENT
DTSTART;TZID=America/New_York:20160415T183000
DTEND;TZID=America/New_York:20160415T213000
DTSTAMP:20260425T233730
CREATED:20160319T221457Z
LAST-MODIFIED:20160502T172135Z
UID:830-1460745000-1460755800@www.musicbyencore.com
SUMMARY:House party\, April 15\, 6:30 PM
DESCRIPTION:This is a private event\, NOT open to the public. \nEncore Duo will perform at the latest installment of Lee’s “Guitar Madness” house party.
URL:https://www.musicbyencore.com/event/house-party-april-15-private-event/
LOCATION:OH
CATEGORIES:Encore Duo
ATTACH;FMTTYPE=image/jpeg:https://www.musicbyencore.com/wordpress/wp-content/uploads/2014/10/rock-roll-guitar-neon-sign-pid-big-2409.jpg
END:VEVENT
BEGIN:VEVENT
DTSTART;TZID=America/New_York:20160325T183000
DTEND;TZID=America/New_York:20160325T223000
DTSTAMP:20260425T233730
CREATED:20160319T220526Z
LAST-MODIFIED:20160424T222301Z
UID:814-1458930600-1458945000@www.musicbyencore.com
SUMMARY:Eastgate Brew & View\, March 25\, 6:30 PM
DESCRIPTION:Hey movie and music fans!  Come out to Eastgate Brew & View on Friday\, March 25\, to catch a movie\, some good food and drink\, and live music by Encore Duo! \nEastgate Brew & View\, located at 4450 Eastgate Square Drive (next to Jungle Jim’s)\, combines a cinema\, restaurant and bar — all in one!  Select from a huge array of appetizers\, entrées and sandwiches.    Sample a specialty cocktail named after a movie star\, or one of 30 local and national craft brews. \nRelax with friends afterwards for a night-cap and the unforgettable vocal harmonies of Encore Duo on Friday\, March 25!
URL:https://www.musicbyencore.com/event/eastgate-brew-view-march-25-630-pm/
LOCATION:Eastgate Brew & View\, 4450 Eastgate South Drive\, Cincinnati\, OH\, 45245
CATEGORIES:Encore Duo
ATTACH;FMTTYPE=image/jpeg:https://www.musicbyencore.com/wordpress/wp-content/uploads/2016/03/egbv_music_series.jpg
END:VEVENT
BEGIN:VEVENT
DTSTART;TZID=America/New_York:20160312T160000
DTEND;TZID=America/New_York:20160312T193000
DTSTAMP:20260425T233730
CREATED:20160211T014205Z
LAST-MODIFIED:20160424T222401Z
UID:795-1457798400-1457811000@www.musicbyencore.com
SUMMARY:Tony "Wojo" Scholarship Spaghetti Dinner\, March 12\, 4:00 PM
DESCRIPTION:REMEMBERING TONY “WOJO”\n SSGT * USMC * EOD\n03/10/84 – 04/30/09 Al Anbar Province\, Iraq\ncincinnatischolarshipfoundation. org/TonyWojo\nWWW.WOJO4EVER.COM \nFundraiser Dinner to benefit the Tony Wojo Memorial Scholarship Fund \nWhat: ALL YOU CAN EAT – Spaghetti and Meatball Dinner \nWhen: Saturday\, March 12\, 2016\, 4:00 p.m. to 7:30 p.m. \nWhere: American Legion Post 72\, 497-B Old State Route 74\, Cincinnati\, Ohio 45244 \nCost: $10.00 per person (Children 10 and under $5.00) – includes soda ticket \nIncludes: Spaghetti\, meatballs\, salad\, garlic bread\, Tony’s birthday cake/dessert and a soda \nExtras: Split the pot\, raffles\, live acoustic music by Encore Duo\, cash bar and lots of fun! \nPurpose: Raising funds for scholarships in remembrance of Wojo’s ultimate sacrifice. \n 
URL:https://www.musicbyencore.com/event/tony-wojo-scholarship-spaghetti-dinner-march-7-400-pm-2/
LOCATION:American Legion Post 72\, Mt. Carmel\, 497 B Old State Route 74\, Cincinnati\, OH\, 45244
CATEGORIES:Encore Duo
ATTACH;FMTTYPE=image/png:https://www.musicbyencore.com/wordpress/wp-content/uploads/2015/01/banner_wojo.png
END:VEVENT
BEGIN:VEVENT
DTSTART;TZID=America/New_York:20160304T180000
DTEND;TZID=America/New_York:20160304T200000
DTSTAMP:20260425T233730
CREATED:20160211T013919Z
LAST-MODIFIED:20160415T004719Z
UID:810-1457114400-1457121600@www.musicbyencore.com
SUMMARY:Fish Fry\, St. Louis School\, March 4\, 6:00 PM
DESCRIPTION:Mark your calendars now for the best Friday Fish Fries this side of the Little Miami River! \nI’m talking about the St. Louis Fish Fries on February 19 and 26\, and March 4 in Owensville!  Enjoy a huge slab of cod on a fresh Blue Oven Bakery bun\, homemade cookies\, pies and cakes and craft beer from Old Firehouse Brewery. \nThe dinner line opens at 5PM.  Encore Duo starts the tasty tunes at 6PM.  Come for dinner and stay for the show! \nDelicious fish\, craft beer\, desserts and Encore Duo music and fun on three Lenten Fridays – February 19 and 26\, and March 4 – it’s all at the St. Louis Fish Fries! \nWe’ll see you at the Fish Fry! \n 
URL:https://www.musicbyencore.com/event/fish-fry-st-louis-school-march-4-600-pm/
LOCATION:St. Louis Church\, Owensville\, 210 N. Broadway\, Owensville\, OH\, 45160
CATEGORIES:Encore Duo
ATTACH;FMTTYPE=image/jpeg:https://www.musicbyencore.com/wordpress/wp-content/uploads/2015/02/fish_fry_edit_web.jpg
END:VEVENT
BEGIN:VEVENT
DTSTART;TZID=America/New_York:20160227T183000
DTEND;TZID=America/New_York:20160227T210000
DTSTAMP:20260425T233730
CREATED:20160211T013556Z
LAST-MODIFIED:20160322T010037Z
UID:809-1456597800-1456606800@www.musicbyencore.com
SUMMARY:Dinner by Chef Jason Robb\, Mt. Carmel AL Post 72\, February 27\, 6:30 PM
DESCRIPTION:Chef Jason Robb dishes up his famous “affordable gourmet” dinner at the Mt. Carmel American Legion on Saturday\, February 27\, starting at 5 PM.  Delicious food is even better with good music\, and Encore Duo will be take the stage at 6:30 PM. \nJust $10 adults and $6 children.  Enjoy a superb dinner with all the fixin’s\, or just stop by for a drink with friends.  Sing along with your all-time favorite classic tunes by the fireplace in the Post 72 lounge. \nDon’t miss Encore Duo and Chef Jason Robb’s affordable gourmet dinner at the Mt. Carmel Legion on Saturday\, February 27!
URL:https://www.musicbyencore.com/event/dinner-chef-jason-robb-mt-carmel-al-post-72-february-27-630-pm/
LOCATION:American Legion Post 72\, Mt. Carmel\, 497 B Old State Route 74\, Cincinnati\, OH\, 45244
CATEGORIES:Encore Duo
ATTACH;FMTTYPE=image/jpeg:https://www.musicbyencore.com/wordpress/wp-content/uploads/2016/02/Email-blast-people-dining.jpg
END:VEVENT
BEGIN:VEVENT
DTSTART;TZID=America/New_York:20160226T180000
DTEND;TZID=America/New_York:20160226T200000
DTSTAMP:20260425T233730
CREATED:20160210T063605Z
LAST-MODIFIED:20160322T005618Z
UID:807-1456509600-1456516800@www.musicbyencore.com
SUMMARY:Fish Fry\, St. Louis School\, February 26\, 6:00 PM
DESCRIPTION:Mark your calendars now for the best Friday Fish Fries this side of the Little Miami River! \nI’m talking about the St. Louis Fish Fries on February 19 and 26\, and March 4 in Owensville!  Enjoy a huge slab of cod on a fresh Blue Oven Bakery bun\, homemade cookies\, pies and cakes and craft beer from Old Firehouse Brewery. \nThe dinner line opens at 5PM.  Encore Duo starts the tasty tunes at 6PM.  Come for dinner and stay for the show! \nDelicious fish\, craft beer\, desserts and Encore Duo music and fun on three Lenten Fridays – February 19 and 26\, and March 4 – it’s all at the St. Louis Fish Fries! \nWe’ll see you at the Fish Fry!
URL:https://www.musicbyencore.com/event/fish-fry-st-louis-school-february-26-600-pm/
LOCATION:St. Louis Church\, Owensville\, 210 N. Broadway\, Owensville\, OH\, 45160
CATEGORIES:Encore Duo
ATTACH;FMTTYPE=image/jpeg:https://www.musicbyencore.com/wordpress/wp-content/uploads/2015/02/fish_fry_edit_web.jpg
END:VEVENT
BEGIN:VEVENT
DTSTART;TZID=America/New_York:20160219T180000
DTEND;TZID=America/New_York:20160219T200000
DTSTAMP:20260425T233730
CREATED:20160210T062914Z
LAST-MODIFIED:20160319T205030Z
UID:806-1455904800-1455912000@www.musicbyencore.com
SUMMARY:Fish Fry\, St. Louis School\, February 19\, 6:00 PM
DESCRIPTION:Mark your calendars now for the best Friday Fish Fries this side of the Little Miami River! \nI’m talking about the St. Louis Fish Fries on February 19 and 26\, and March 4 in Owensville!  Enjoy a huge slab of cod on a fresh Blue Oven Bakery bun\, homemade cookies\, pies and cakes and craft beer from Old Firehouse Brewery. \nThe dinner line opens at 5PM.  Encore Duo starts the tasty tunes at 6PM.  Come for dinner and stay for the show! \nDelicious fish\, craft beer\, desserts and Encore Duo music and fun on three Lenten Fridays – February 19 and 26\, and March 4 – it’s all at the St. Louis Fish Fries! \nWe’ll see you at the Fish Fry! \n 
URL:https://www.musicbyencore.com/event/fish-fry-st-louis-school-february-19-600-pm/
LOCATION:St. Louis Church\, Owensville\, 210 N. Broadway\, Owensville\, OH\, 45160
CATEGORIES:Encore Duo
ATTACH;FMTTYPE=image/jpeg:https://www.musicbyencore.com/wordpress/wp-content/uploads/2015/02/fish_fry_edit_web.jpg
END:VEVENT
BEGIN:VEVENT
DTSTART;TZID=America/New_York:20160212T200000
DTEND;TZID=America/New_York:20160212T220000
DTSTAMP:20260425T233730
CREATED:20151102T024533Z
LAST-MODIFIED:20160319T204836Z
UID:801-1455307200-1455314400@www.musicbyencore.com
SUMMARY:Starbucks Coffee Eastgate\, February 12\, 8:00 PM
DESCRIPTION:Hey\, coffee fans! \nBring your sweetheart  to Eastgate Starbucks on Friday evening\, February 12\, for a Valentine’s Day latte\, expresso or any of the other delicious Starbucks coffee and tea favorites\, along with some good music by Encore Duo\, starting at 8 PM.\n \nSee you there! \n(logo courtesy starbucks.com)
URL:https://www.musicbyencore.com/event/starbucks-coffee-eastgate-february-12-800-pm/
LOCATION:Starbucks Coffee Co.\, Eastgate North\, 866 Eastgate North Drive\, Cincinnati\, OH\, 45245
CATEGORIES:Encore Duo
ATTACH;FMTTYPE=image/jpeg:https://www.musicbyencore.com/wordpress/wp-content/uploads/2014/12/starbucks_logo.jpg
END:VEVENT
END:VCALENDAR